BEGIN:VCALENDAR
VERSION:2.0
PRODID:SchoolNow
CALSCALE:GREGORIAN
BEGIN:VEVENT
UID:a98fd484-0cfa-11f1-9f57-027a5cb0a63f
DTSTAMP:20260419T082050Z
SUMMARY:HSB-Hudson School Board Meeting
URL;VALUE=URI:https://www.sau81.org/schoolboard/calendar/8859155/hsb-hudson
 -school-board-meeting
DTSTART:20260921T223000Z
DTEND:20260922T010000Z
END:VEVENT
END:VCALENDAR
