BEGIN:VCALENDAR
VERSION:2.0
PRODID:SchoolNow
CALSCALE:GREGORIAN
BEGIN:VEVENT
UID:a98fcd04-0cfa-11f1-bc6d-027a5cb0a63f
DTSTAMP:20260419T142546Z
SUMMARY:HSB-Hudson School Board Meeting
URL;VALUE=URI:https://www.sau81.org/schoolboard/calendar/8859144/hsb-hudson
 -school-board-meeting
DTSTART:20270104T233000Z
DTEND:20270105T020000Z
END:VEVENT
END:VCALENDAR
