BEGIN:VCALENDAR
VERSION:2.0
PRODID:SchoolNow
CALSCALE:GREGORIAN
BEGIN:VEVENT
UID:a98fcb1a-0cfa-11f1-8c7b-027a5cb0a63f
DTSTAMP:20260419T203051Z
SUMMARY:HSB-Hudson School Board Meeting
URL;VALUE=URI:https://www.sau81.org/schoolboard/calendar/8859142/hsb-hudson
 -school-board-meeting
DTSTART:20270308T233000Z
DTEND:20270309T020000Z
END:VEVENT
END:VCALENDAR
