BEGIN:VCALENDAR
VERSION:2.0
PRODID:SchoolNow
CALSCALE:GREGORIAN
BEGIN:VEVENT
UID:a98fc462-0cfa-11f1-9019-027a5cb0a63f
DTSTAMP:20260419T142546Z
SUMMARY:HSB-Hudson School Board Meeting
URL;VALUE=URI:https://www.sau81.org/schoolboard/calendar/8859138/hsb-hudson
 -school-board-meeting
DTSTART:20261005T223000Z
DTEND:20261006T010000Z
END:VEVENT
END:VCALENDAR
