BEGIN:VCALENDAR
VERSION:2.0
PRODID:SchoolNow
CALSCALE:GREGORIAN
BEGIN:VEVENT
UID:4fd3f918-0b68-11f1-be10-0afff598afa3
DTSTAMP:20260421T191008Z
SUMMARY:Start Boosterthon Fun Run Fundraiser
URL;VALUE=URI:https://www.sau81.org/nws/calendar/8857232/start-boosterthon-
 fun-run-fundraiser
DTSTART;VALUE=DATE:20260331
DTEND;VALUE=DATE:20260401
END:VEVENT
END:VCALENDAR
