BEGIN:VCALENDAR
VERSION:2.0
PRODID:SchoolNow
CALSCALE:GREGORIAN
BEGIN:VEVENT
UID:4fd3f756-0b68-11f1-803e-0afff598afa3
DTSTAMP:20260421T191008Z
SUMMARY:Book Fair
URL;VALUE=URI:https://www.sau81.org/nws/calendar/8857231/book-fair
DTSTART;VALUE=DATE:20260316
DTEND;VALUE=DATE:20260321
END:VEVENT
END:VCALENDAR
