BEGIN:VCALENDAR
VERSION:2.0
PRODID:SchoolNow
CALSCALE:GREGORIAN
BEGIN:VEVENT
UID:4fd3f5d0-0b68-11f1-a24a-0afff598afa3
DTSTAMP:20260421T191008Z
SUMMARY:Family Resource Night
LOCATION:Hills Garrison Elementary School\, Cafeteria
URL;VALUE=URI:https://www.sau81.org/nws/calendar/8857230/family-resource-ni
 ght
DTSTART:20260311T220000Z
DTEND:20260311T233000Z
END:VEVENT
END:VCALENDAR
