BEGIN:VCALENDAR
VERSION:2.0
PRODID:SchoolNow
CALSCALE:GREGORIAN
BEGIN:VEVENT
UID:4fd3f4b8-0b68-11f1-b7ac-0afff598afa3
DTSTAMP:20260421T191008Z
SUMMARY:Read Across America Week
URL;VALUE=URI:https://www.sau81.org/nws/calendar/8857229/read-across-americ
 a-week
DTSTART;VALUE=DATE:20260302
DTEND;VALUE=DATE:20260307
END:VEVENT
END:VCALENDAR
