BEGIN:VCALENDAR
VERSION:2.0
PRODID:SchoolNow
CALSCALE:GREGORIAN
BEGIN:VEVENT
UID:4fd3f3aa-0b68-11f1-83ef-0afff598afa3
DTSTAMP:20260421T191008Z
SUMMARY:STEM Night
URL;VALUE=URI:https://www.sau81.org/nws/calendar/8857228/stem-night
DTSTART:20260305T213000Z
DTEND:20260306T010000Z
END:VEVENT
END:VCALENDAR
