BEGIN:VCALENDAR
VERSION:2.0
PRODID:SchoolNow
CALSCALE:GREGORIAN
BEGIN:VEVENT
UID:4fd3f210-0b68-11f1-a95a-0afff598afa3
DTSTAMP:20260421T191008Z
SUMMARY:PD Day - No School for Students
URL;VALUE=URI:https://www.sau81.org/nws/calendar/8857227/pd-day-no-school-f
 or-students
DTSTART;VALUE=DATE:20260310
DTEND;VALUE=DATE:20260311
END:VEVENT
END:VCALENDAR
