BEGIN:VCALENDAR
VERSION:2.0
PRODID:SchoolNow
CALSCALE:GREGORIAN
BEGIN:VEVENT
UID:4fd3ee32-0b68-11f1-a435-0afff598afa3
DTSTAMP:20260421T191008Z
SUMMARY:Roller Skating Party
URL;VALUE=URI:https://www.sau81.org/nws/calendar/8857226/roller-skating-par
 ty
DTSTART:20260309T213000Z
DTEND:20260309T233000Z
END:VEVENT
END:VCALENDAR
