BEGIN:VCALENDAR
VERSION:2.0
PRODID:SchoolNow
CALSCALE:GREGORIAN
BEGIN:VEVENT
UID:591498f4-ebea-11f0-a7eb-0affdb1357c9
DTSTAMP:20260422T011509Z
SUMMARY:PTO Meeting
URL;VALUE=URI:https://www.sau81.org/nws/calendar/8832362/pto-meeting
DTSTART:20260107T233000Z
DTEND:20260108T003000Z
END:VEVENT
END:VCALENDAR
