BEGIN:VCALENDAR
VERSION:2.0
PRODID:SchoolNow
CALSCALE:GREGORIAN
BEGIN:VEVENT
UID:59149778-ebea-11f0-b889-0affdb1357c9
DTSTAMP:20260422T011509Z
SUMMARY:iReady Testing - Reading
URL;VALUE=URI:https://www.sau81.org/nws/calendar/8832361/iready-testing-rea
 ding
DTSTART;VALUE=DATE:20260106
DTEND;VALUE=DATE:20260108
END:VEVENT
END:VCALENDAR
