BEGIN:VCALENDAR
VERSION:2.0
PRODID:SchoolNow
CALSCALE:GREGORIAN
BEGIN:VEVENT
UID:59149570-ebea-11f0-9545-0affdb1357c9
DTSTAMP:20260422T011509Z
SUMMARY:No School - MLK/Civil Rights Day
URL;VALUE=URI:https://www.sau81.org/nws/calendar/8832359/no-school-mlk-civi
 l-rights-day
DTSTART;VALUE=DATE:20260119
DTEND;VALUE=DATE:20260120
END:VEVENT
END:VCALENDAR
