BEGIN:VCALENDAR
VERSION:2.0
PRODID:SchoolNow
CALSCALE:GREGORIAN
BEGIN:VEVENT
UID:591492fa-ebea-11f0-9c3a-0affdb1357c9
DTSTAMP:20260422T011509Z
SUMMARY:iReady Testing - Math
URL;VALUE=URI:https://www.sau81.org/nws/calendar/8832357/iready-testing-mat
 h
DTSTART;VALUE=DATE:20260113
DTEND;VALUE=DATE:20260115
END:VEVENT
END:VCALENDAR
