BEGIN:VCALENDAR
VERSION:2.0
PRODID:SchoolNow
CALSCALE:GREGORIAN
BEGIN:VEVENT
UID:878a3520-3e94-11f1-82ad-02180d8a75f3
DTSTAMP:20260423T095507Z
SUMMARY:HMS - 6th Grade Field Day
URL;VALUE=URI:https://www.sau81.org/hms/calendar/9012268/hms-6th-grade-fiel
 d-day
DTSTART;VALUE=DATE:20260612
DTEND;VALUE=DATE:20260613
END:VEVENT
END:VCALENDAR
