BEGIN:VCALENDAR
VERSION:2.0
PRODID:SchoolNow
CALSCALE:GREGORIAN
BEGIN:VEVENT
UID:878a2f80-3e94-11f1-b99b-02180d8a75f3
DTSTAMP:20260423T095507Z
SUMMARY:HMS - 8th Grade Class Day Ceremony
URL;VALUE=URI:https://www.sau81.org/hms/calendar/9012267/hms-8th-grade-clas
 s-day-ceremony
DTSTART:20260616T123000Z
DTEND:20260616T133000Z
END:VEVENT
END:VCALENDAR
