BEGIN:VCALENDAR
VERSION:2.0
PRODID:SchoolNow
CALSCALE:GREGORIAN
BEGIN:VEVENT
UID:e45dd23a-3768-11f1-a73f-0a58a9feac02
DTSTAMP:20260423T095507Z
SUMMARY:HMS - Last Day of School for students
URL;VALUE=URI:https://www.sau81.org/hms/calendar/8991588/hms-last-day-of-sc
 hool-for-students
DTSTART;VALUE=DATE:20260616
DTEND;VALUE=DATE:20260617
END:VEVENT
END:VCALENDAR
