BEGIN:VCALENDAR
VERSION:2.0
PRODID:SchoolNow
CALSCALE:GREGORIAN
BEGIN:VEVENT
UID:19ede946-2948-11f1-9415-02b3570a4ee9
DTSTAMP:20260423T035007Z
SUMMARY:HMS - Barking for Books
URL;VALUE=URI:https://www.sau81.org/hms/calendar/8947924/hms-barking-for-bo
 oks
DTSTART:20260414T183000Z
DTEND:20260414T193000Z
END:VEVENT
END:VCALENDAR
