BEGIN:VCALENDAR
VERSION:2.0
PRODID:SchoolNow
CALSCALE:GREGORIAN
BEGIN:VEVENT
UID:2e66a5a0-27b0-11f1-b07d-023c6849f339
DTSTAMP:20260423T035007Z
SUMMARY:HMS - Spirit Week
URL;VALUE=URI:https://www.sau81.org/hms/calendar/8942876/hms-spirit-week
DTSTART;VALUE=DATE:20260420
DTEND;VALUE=DATE:20260425
END:VEVENT
END:VCALENDAR
