BEGIN:VCALENDAR
VERSION:2.0
PRODID:SchoolNow
CALSCALE:GREGORIAN
BEGIN:VEVENT
UID:6213c66c-23b4-11f1-a574-02d354917ee1
DTSTAMP:20260423T095507Z
SUMMARY:HMS - Spring Sports Informational Meeting
URL;VALUE=URI:https://www.sau81.org/hms/calendar/8930982/hms-spring-sports-
 informational-meeting
DTSTART:20260326T183000Z
DTEND:20260326T193000Z
END:VEVENT
END:VCALENDAR
