BEGIN:VCALENDAR
VERSION:2.0
PRODID:SchoolNow
CALSCALE:GREGORIAN
BEGIN:VEVENT
UID:67d6d76a-175c-11f1-aca7-0afff29f04d5
DTSTAMP:20260423T095507Z
SUMMARY:HMS - Parent Internet Safety Night
LOCATION:HMS Library Media Center
URL;VALUE=URI:https://www.sau81.org/hms/calendar/8888942/hms-parent-interne
 t-safety-night
DTSTART:20260331T223000Z
DTEND:20260331T233000Z
END:VEVENT
END:VCALENDAR
