BEGIN:VCALENDAR
VERSION:2.0
PRODID:SchoolNow
CALSCALE:GREGORIAN
BEGIN:VEVENT
UID:e214cfaa-020d-11f1-82c8-02dd97b1f9c1
DTSTAMP:20260423T095507Z
SUMMARY:HMS - 8th Grade Career Day
URL;VALUE=URI:https://www.sau81.org/hms/calendar/8849677/hms-8th-grade-care
 er-day
DTSTART;VALUE=DATE:20260312
DTEND;VALUE=DATE:20260313
END:VEVENT
END:VCALENDAR
