BEGIN:VCALENDAR
VERSION:2.0
PRODID:SchoolNow
CALSCALE:GREGORIAN
BEGIN:VEVENT
UID:3558d29e-fbae-11f0-9151-0e27730cc439
DTSTAMP:20260423T095507Z
SUMMARY:HMS - Lucky Green Day (Wear Green)
URL;VALUE=URI:https://www.sau81.org/hms/calendar/8845182/hms-lucky-green-da
 y-wear-green
DTSTART;VALUE=DATE:20260317
DTEND;VALUE=DATE:20260318
END:VEVENT
END:VCALENDAR
