BEGIN:VCALENDAR
VERSION:2.0
PRODID:SchoolNow
CALSCALE:GREGORIAN
BEGIN:VEVENT
UID:3558ca92-fbae-11f0-9160-0e27730cc439
DTSTAMP:20260423T095507Z
SUMMARY:HMS - Battle of the Decades Spirit Week
URL;VALUE=URI:https://www.sau81.org/hms/calendar/8845181/hms-battle-of-the-
 decades-spirit-week
DTSTART;VALUE=DATE:20260202
DTEND;VALUE=DATE:20260207
END:VEVENT
END:VCALENDAR
