BEGIN:VCALENDAR
VERSION:2.0
PRODID:SchoolNow
CALSCALE:GREGORIAN
BEGIN:VEVENT
UID:810a9be4-f246-11f0-85be-0a58a9feac02
DTSTAMP:20260423T095507Z
SUMMARY:HMS - 6th Grade Band & Chorus Trip to Hills Garrison
URL;VALUE=URI:https://www.sau81.org/hms/calendar/8836731/hms-6th-grade-band
 -chorus-trip-to-hills-garrison
DTSTART:20260203T140000Z
DTEND:20260203T163000Z
END:VEVENT
END:VCALENDAR
