BEGIN:VCALENDAR
VERSION:2.0
PRODID:SchoolNow
CALSCALE:GREGORIAN
BEGIN:VEVENT
UID:810a9766-f246-11f0-af36-0a58a9feac02
DTSTAMP:20260423T095507Z
SUMMARY:HMS - 6th Grade Band & Chorus Trip to Nottingham West Elementary
URL;VALUE=URI:https://www.sau81.org/hms/calendar/8836730/hms-6th-grade-band
 -chorus-trip-to-nottingham-west-elementary
DTSTART:20260204T131500Z
DTEND:20260204T154500Z
END:VEVENT
END:VCALENDAR
