BEGIN:VCALENDAR
VERSION:2.0
PRODID:SchoolNow
CALSCALE:GREGORIAN
BEGIN:VEVENT
UID:810a739e-f246-11f0-909c-0a58a9feac02
DTSTAMP:20260423T095507Z
SUMMARY:HMS - 8th Grade Boston Area Trip  -American Heritage Museum
URL;VALUE=URI:https://www.sau81.org/hms/calendar/8836729/hms-8th-grade-bost
 on-area-trip-american-heritage-museum
DTSTART;VALUE=DATE:20260514
DTEND;VALUE=DATE:20260515
END:VEVENT
END:VCALENDAR
