BEGIN:VCALENDAR
VERSION:2.0
PRODID:SchoolNow
CALSCALE:GREGORIAN
BEGIN:VEVENT
UID:8e0f09bc-ecef-11f0-aabf-0247c0e8b43f
DTSTAMP:20260423T095507Z
SUMMARY:HMS - 8th Grade Boston Area Trip - USS Constitution/STEM Museum
URL;VALUE=URI:https://www.sau81.org/hms/calendar/8833144/hms-8th-grade-bost
 on-area-trip-uss-constitution-stem-museum
DTSTART;VALUE=DATE:20260513
DTEND;VALUE=DATE:20260514
END:VEVENT
END:VCALENDAR
