BEGIN:VCALENDAR
VERSION:2.0
PRODID:SchoolNow
CALSCALE:GREGORIAN
BEGIN:VEVENT
UID:8e0f04e4-ecef-11f0-bdbf-0247c0e8b43f
DTSTAMP:20260423T095507Z
SUMMARY:HMS - NAEP Assessment
URL;VALUE=URI:https://www.sau81.org/hms/calendar/8833143/hms-naep-assessmen
 t
DTSTART;VALUE=DATE:20260210
DTEND;VALUE=DATE:20260211
END:VEVENT
END:VCALENDAR
