BEGIN:VCALENDAR
VERSION:2.0
PRODID:SchoolNow
CALSCALE:GREGORIAN
BEGIN:VEVENT
UID:8e0f023c-ecef-11f0-afdf-0247c0e8b43f
DTSTAMP:20260423T095507Z
SUMMARY:HMS - 8th Grade Boston Area Trip - The Freedom Trail
URL;VALUE=URI:https://www.sau81.org/hms/calendar/8833142/hms-8th-grade-bost
 on-area-trip-the-freedom-trail
DTSTART;VALUE=DATE:20260511
DTEND;VALUE=DATE:20260512
END:VEVENT
END:VCALENDAR
