BEGIN:VCALENDAR
VERSION:2.0
PRODID:SchoolNow
CALSCALE:GREGORIAN
BEGIN:VEVENT
UID:8e0ee2ac-ecef-11f0-a7ed-0247c0e8b43f
DTSTAMP:20260423T095507Z
SUMMARY:HMS - 8th Grade Boston Area Trip - JFK Library
URL;VALUE=URI:https://www.sau81.org/hms/calendar/8833141/hms-8th-grade-bost
 on-area-trip-jfk-library
DTSTART;VALUE=DATE:20260512
DTEND;VALUE=DATE:20260513
END:VEVENT
END:VCALENDAR
