BEGIN:VCALENDAR
VERSION:2.0
PRODID:SchoolNow
CALSCALE:GREGORIAN
BEGIN:VEVENT
UID:d644c9a2-ecbc-11f0-a64b-0e8725f735c1
DTSTAMP:20260423T095507Z
SUMMARY:HMS - NH SAS - Math
URL;VALUE=URI:https://www.sau81.org/hms/calendar/8832852/hms-nh-sas-math
DTSTART;VALUE=DATE:20260507
DTEND;VALUE=DATE:20260508
END:VEVENT
END:VCALENDAR
