BEGIN:VCALENDAR
VERSION:2.0
PRODID:SchoolNow
CALSCALE:GREGORIAN
BEGIN:VEVENT
UID:d644c740-ecbc-11f0-abb5-0e8725f735c1
DTSTAMP:20260423T095507Z
SUMMARY:HMS - iReady - Math
URL;VALUE=URI:https://www.sau81.org/hms/calendar/8832851/hms-iready-math
DTSTART;VALUE=DATE:20260528
DTEND;VALUE=DATE:20260529
END:VEVENT
END:VCALENDAR
