BEGIN:VCALENDAR
VERSION:2.0
PRODID:SchoolNow
CALSCALE:GREGORIAN
BEGIN:VEVENT
UID:d644a2d8-ecbc-11f0-a2e0-0e8725f735c1
DTSTAMP:20260423T095507Z
SUMMARY:HMS - Chorale Spring Concert
URL;VALUE=URI:https://www.sau81.org/hms/calendar/8832850/hms-chorale-spring
 -concert
DTSTART;VALUE=DATE:20260527
DTEND;VALUE=DATE:20260528
END:VEVENT
END:VCALENDAR
