BEGIN:VCALENDAR
VERSION:2.0
PRODID:SchoolNow
CALSCALE:GREGORIAN
BEGIN:VEVENT
UID:d644a1f2-ecbc-11f0-9fba-0e8725f735c1
DTSTAMP:20260423T035007Z
SUMMARY:HMS - PTO Meeting
URL;VALUE=URI:https://www.sau81.org/hms/calendar/8832849/hms-pto-meeting
DTSTART:20260415T223000Z
DTEND:20260415T233000Z
END:VEVENT
END:VCALENDAR
