BEGIN:VCALENDAR
VERSION:2.0
PRODID:SchoolNow
CALSCALE:GREGORIAN
BEGIN:VEVENT
UID:d644a10c-ecbc-11f0-856c-0e8725f735c1
DTSTAMP:20260423T095507Z
SUMMARY:HMS - Ed Gerety - Anti-Bullying Program
LOCATION:HMS Library Media Center
URL;VALUE=URI:https://www.sau81.org/hms/calendar/8832848/hms-ed-gerety-anti
 -bullying-program
DTSTART:20260218T230000Z
DTEND:20260219T000000Z
END:VEVENT
END:VCALENDAR
