BEGIN:VCALENDAR
VERSION:2.0
PRODID:SchoolNow
CALSCALE:GREGORIAN
BEGIN:VEVENT
UID:d644a026-ecbc-11f0-aaea-0e8725f735c1
DTSTAMP:20260423T095507Z
SUMMARY:HMS - PTO Meeting
URL;VALUE=URI:https://www.sau81.org/hms/calendar/8832847/hms-pto-meeting
DTSTART:20260520T223000Z
DTEND:20260520T233000Z
END:VEVENT
END:VCALENDAR
