BEGIN:VCALENDAR
VERSION:2.0
PRODID:SchoolNow
CALSCALE:GREGORIAN
BEGIN:VEVENT
UID:d6449e82-ecbc-11f0-9562-0e8725f735c1
DTSTAMP:20260423T095507Z
SUMMARY:HMS - Band Spring Concert
URL;VALUE=URI:https://www.sau81.org/hms/calendar/8832846/hms-band-spring-co
 ncert
DTSTART;VALUE=DATE:20260528
DTEND;VALUE=DATE:20260529
END:VEVENT
END:VCALENDAR
