BEGIN:VCALENDAR
VERSION:2.0
PRODID:SchoolNow
CALSCALE:GREGORIAN
BEGIN:VEVENT
UID:d6449d88-ecbc-11f0-9cc5-0e8725f735c1
DTSTAMP:20260423T095507Z
SUMMARY:HMS - 8th Grade Washington DC Trip
URL;VALUE=URI:https://www.sau81.org/hms/calendar/8832845/hms-8th-grade-wash
 ington-dc-trip
DTSTART;VALUE=DATE:20260511
DTEND;VALUE=DATE:20260516
END:VEVENT
END:VCALENDAR
