BEGIN:VCALENDAR
VERSION:2.0
PRODID:SchoolNow
CALSCALE:GREGORIAN
BEGIN:VEVENT
UID:d6449ca2-ecbc-11f0-ad19-0e8725f735c1
DTSTAMP:20260423T095507Z
SUMMARY:HMS - NH SAS - Reading
URL;VALUE=URI:https://www.sau81.org/hms/calendar/8832844/hms-nh-sas-reading
DTSTART;VALUE=DATE:20260505
DTEND;VALUE=DATE:20260506
END:VEVENT
END:VCALENDAR
