BEGIN:VCALENDAR
VERSION:2.0
PRODID:SchoolNow
CALSCALE:GREGORIAN
BEGIN:VEVENT
UID:d6449a86-ecbc-11f0-ab49-0e8725f735c1
DTSTAMP:20260423T095507Z
SUMMARY:HMS - 5th Grade Family Bingo Night
URL;VALUE=URI:https://www.sau81.org/hms/calendar/8832842/hms-5th-grade-fami
 ly-bingo-night
DTSTART:20260603T220000Z
DTEND:20260604T000000Z
END:VEVENT
END:VCALENDAR
