BEGIN:VCALENDAR
VERSION:2.0
PRODID:SchoolNow
CALSCALE:GREGORIAN
BEGIN:VEVENT
UID:d6449978-ecbc-11f0-8c16-0e8725f735c1
DTSTAMP:20260423T035007Z
SUMMARY:HMS - NHSAS Science\, 8th Grade
URL;VALUE=URI:https://www.sau81.org/hms/calendar/8832841/hms-nhsas-science-
 8th-grade
DTSTART;VALUE=DATE:20260422
DTEND;VALUE=DATE:20260423
END:VEVENT
END:VCALENDAR
