BEGIN:VCALENDAR
VERSION:2.0
PRODID:SchoolNow
CALSCALE:GREGORIAN
BEGIN:VEVENT
UID:d64497f2-ecbc-11f0-9307-0e8725f735c1
DTSTAMP:20260423T095507Z
SUMMARY:HMS - iReady - Reading
URL;VALUE=URI:https://www.sau81.org/hms/calendar/8832840/hms-iready-reading
DTSTART;VALUE=DATE:20260527
DTEND;VALUE=DATE:20260528
END:VEVENT
END:VCALENDAR
