BEGIN:VCALENDAR
VERSION:2.0
PRODID:SchoolNow
CALSCALE:GREGORIAN
BEGIN:VEVENT
UID:d64496ee-ecbc-11f0-af4e-0e8725f735c1
DTSTAMP:20260423T095507Z
SUMMARY:HMS - Memorial Day Ceremony
URL;VALUE=URI:https://www.sau81.org/hms/calendar/8832839/hms-memorial-day-c
 eremony
DTSTART:20260522T115500Z
DTEND:20260522T123000Z
END:VEVENT
END:VCALENDAR
