BEGIN:VCALENDAR
VERSION:2.0
PRODID:SchoolNow
CALSCALE:GREGORIAN
BEGIN:VEVENT
UID:d64495cc-ecbc-11f0-a932-0e8725f735c1
DTSTAMP:20260423T035007Z
SUMMARY:HMS - Author Visit: Jarrett Krosockza
URL;VALUE=URI:https://www.sau81.org/hms/calendar/8832838/hms-author-visit-j
 arrett-krosockza
DTSTART;VALUE=DATE:20260421
DTEND;VALUE=DATE:20260422
END:VEVENT
END:VCALENDAR
