BEGIN:VCALENDAR
VERSION:2.0
PRODID:SchoolNow
CALSCALE:GREGORIAN
BEGIN:VEVENT
UID:d64493ec-ecbc-11f0-903e-0e8725f735c1
DTSTAMP:20260423T095507Z
SUMMARY:HMS - Karaoke Friday
URL;VALUE=URI:https://www.sau81.org/hms/calendar/8832837/hms-karaoke-friday
DTSTART;VALUE=DATE:20260515
DTEND;VALUE=DATE:20260516
END:VEVENT
END:VCALENDAR
