BEGIN:VCALENDAR
VERSION:2.0
PRODID:SchoolNow
CALSCALE:GREGORIAN
BEGIN:VEVENT
UID:d6449284-ecbc-11f0-a00d-0e8725f735c1
DTSTAMP:20260423T095507Z
SUMMARY:HMS - Museum of Science Field Trip - 6th Grade
URL;VALUE=URI:https://www.sau81.org/hms/calendar/8832836/hms-museum-of-scie
 nce-field-trip-6th-grade
DTSTART;VALUE=DATE:20260529
DTEND;VALUE=DATE:20260530
END:VEVENT
END:VCALENDAR
