BEGIN:VCALENDAR
VERSION:2.0
PRODID:SchoolNow
CALSCALE:GREGORIAN
BEGIN:VEVENT
UID:d64490f4-ecbc-11f0-97d1-0e8725f735c1
DTSTAMP:20260423T095507Z
SUMMARY:HMS - NH SAS - Writing
URL;VALUE=URI:https://www.sau81.org/hms/calendar/8832835/hms-nh-sas-writing
DTSTART;VALUE=DATE:20260519
DTEND;VALUE=DATE:20260520
END:VEVENT
END:VCALENDAR
