BEGIN:VCALENDAR
VERSION:2.0
PRODID:SchoolNow
CALSCALE:GREGORIAN
BEGIN:VEVENT
UID:d6448dfc-ecbc-11f0-9620-0e8725f735c1
DTSTAMP:20260423T095507Z
SUMMARY:HMS - 5th Grade Step-up Day
URL;VALUE=URI:https://www.sau81.org/hms/calendar/8832834/hms-5th-grade-step
 -up-day
DTSTART;VALUE=DATE:20260513
DTEND;VALUE=DATE:20260514
END:VEVENT
END:VCALENDAR
